BEGIN:VCALENDAR
VERSION:2.0
BEGIN:VEVENT
URL:https://www.networkinaction.com/index.php/events/viewevent/11973-march-monthly-meeting-cypress?groupid=11 
DTSTART:20230316T160000
DTEND:20230316T173000
SUMMARY:March Monthly Meeting - Cypress
DESCRIPTION:Meet new members and guests and network at the next level with our amazing group of talented and dynamic Cypress business leaders!  See you Thursday!
LOCATION:d'Vine Wine Bar, 25202 NorthWest Freeway #100, Cypress, TX 77429
END:VEVENT
END:VCALENDAR