BEGIN:VCALENDAR
VERSION:2.0
BEGIN:VEVENT
URL:https://www.networkinaction.com/index.php/events/viewevent/11961-next-level-networking 
DTSTART:20230411T170000
DTEND:20230411T183000
SUMMARY:Next Level Networking 
DESCRIPTION:
LOCATION:Blue Rooster 331Hwy 410 S, Buckley, WA 98321
END:VEVENT
END:VCALENDAR