BEGIN:VCALENDAR
VERSION:2.0
BEGIN:VEVENT
URL:https://www.networkinaction.com/index.php/events/viewevent/11935-virtual-business-solutions-networking-group-nia-member-meeting?groupid=234 
DTSTART:20230411T100000
DTEND:20230411T113000
SUMMARY:Virtual Business Solutions & Networking Group | NIA  Member Meeting
DESCRIPTION:Network In Action (NIA) brings together a coalition of like-minded business owners and decision-makers who understand the power of networking. Build your business by capitalizing on our state of the art technology and monthly meetings.

In today’s business climate we accept that networking is the most powerful and cost effective way to grow your business.

That is the good news. The bad news is most of us simply cannot commit to a weekly meeting. NIA provides practical solutions - monthly meetings, community website, socials and smart phone technology that makes sharing and receiving referrals effortless.

🔶 Experience the NIA Difference 🔶

♦ Monthly Meetings
♦ Professional Leadership
♦ State of the Art Technology
♦ Refer with Confidence
♦ Reputation Management
♦ Local, Regional and National Connections
♦ Guaranteed Return on your Investment
♦ NIA University Business Solutions
♦ Community Service Commitment

https://www.networkinaction.com/

► Spokane | Eastern WA
► Coeur D'Alene | North ID
► Virtual Nationwide & Regional option as well!

Register here:

https://www.eventbrite.com/e/577725230717

Please schedule a quick chat  if you would like to learn more.
I look forward to meeting you and learning about your business and how I can help!
LOCATION:Zoom
END:VEVENT
END:VCALENDAR