BEGIN:VCALENDAR
VERSION:2.0
BEGIN:VEVENT
URL:https://www.networkinaction.com/index.php/events/viewevent/11932-monthly-meeting 
DTSTART:20230309T190000
DTEND:20230309T203000
SUMMARY:Monthly Meeting
DESCRIPTION:<p>Join us for our monthly meeting using the Zoom Link below.<strong> Invite another business owner as your guest. </strong></p><br /><p>Join Zoom Meeting</p><p><a href="https://us06web.zoom.us/j/84821934826?pwd=STloVHBJOUQ4NDI0SUpmbEhLY3hvQT09">https://us06web.zoom.us/j/84821934826?pwd=STloVHBJOUQ4NDI0SUpmbEhLY3hvQT09</a></p><p><br /></p><p>Meeting ID: 848 2193 4826</p><p>Passcode: 285686</p><p><strong>REMINDER: All members are required to attend 11 of 12 meetings per year.</strong></p><br /><br />
LOCATION:Zoom
END:VEVENT
END:VCALENDAR