BEGIN:VCALENDAR
VERSION:2.0
BEGIN:VEVENT
URL:https://www.networkinaction.com/index.php/events/viewevent/11898-march-nia-citywide-happy-hour?groupid=77 
DTSTART:20230323T153000
DTEND:20230323T173000
SUMMARY:March NIA Citywide Happy Hour
DESCRIPTION:<p>Come out and network with the members of other Houston NIA groups.  We always have a good turnout and this is a great way to extend your network.</p>
LOCATION:East River 9 (65 Hirsch Rd, Houston, TX  77020)
END:VEVENT
END:VCALENDAR