BEGIN:VCALENDAR
VERSION:2.0
BEGIN:VEVENT
URL:https://www.networkinaction.com/index.php/events/viewevent/11874-game-night?groupid=237 
DTSTART:20230331T190000
DTEND:20230331T220000
SUMMARY:Game Night!
DESCRIPTION:Play is often left behind in childhood, but it is integral to learning and growth all of our lives. Coming together to bond through games creates unique, multi-dimensioned relational connections. Let's meet up together to duel in old-school Tekken, play a collaborative board game, explore VR, or whatever strikes our fancy! Members-only.<br />
LOCATION:Replay Games, 109 Broadway N, Fargo, ND 58102
END:VEVENT
END:VCALENDAR