BEGIN:VCALENDAR
VERSION:2.0
BEGIN:VEVENT
URL:https://www.networkinaction.com/index.php/events/viewevent/11836-launch-learn?groupid=237 
DTSTART:20230315T140000
DTEND:20230315T153000
SUMMARY:Launch & Learn
DESCRIPTION:<p>Come and learn more about what makes the Network In Action experience different, and get to know some new people at the same time! Bring business cards and bring curiosity. :D</p><p>The regular monthly meeting is focused on the members, but this one is focused on the guests!</p>
LOCATION:Blarney Stone Pub, 1910 9th St E, West Fargo, ND 58078
END:VEVENT
END:VCALENDAR