BEGIN:VCALENDAR
VERSION:2.0
BEGIN:VEVENT
URL:https://www.networkinaction.com/index.php/events/viewevent/11793-georgetown-nia-meeting?groupid=50 
DTSTART:20230301T113000
DTEND:20230301T130000
SUMMARY:Georgetown NIA Meeting
DESCRIPTION:<p>Network in Action has turned the networking world on its head with our unique combination ofnetworking, masterminding, trainings, and social media tools to help our members grow their businesses in any direction they choose.
</p>
<p>Come hang out with us and see the NIA difference for yourself.</p>
LOCATION:The Golden Rule, 606 South Church Street Georgetown, TX 78626
END:VEVENT
END:VCALENDAR