BEGIN:VCALENDAR
VERSION:2.0
BEGIN:VEVENT
URL:https://www.networkinaction.com/index.php/events/viewevent/11791-network-fore-your-business-with-network-in-action-pnw?groupid=302 
DTSTART:20230323T160000
DTEND:20230323T180000
SUMMARY:Network "FORE" Your Business with Network In Action PNW!
DESCRIPTION:All are welcome to this social networking event supporting new local franchise X-Golf Group in Spokane Valley!

Registration is free for members but kindly RSVP.

https://www.eventbrite.com/e/network-fore-your-business-with-network-in-action-pnw-tickets-541758443087

#networking #spokane #coeurdalene #spokanevalley #businessowner#smallbusinesssupportingsmallbusiness
LOCATION:X-Golf Spokane Valley
END:VEVENT
END:VCALENDAR