BEGIN:VCALENDAR
VERSION:2.0
BEGIN:VEVENT
URL:https://www.networkinaction.com/index.php/events/viewevent/11764-soco-monthly-meeting?groupid=251 
DTSTART:20230522T150000
DTEND:20230522T163000
SUMMARY:SoCo - Monthly Meeting
RRULE:FREQ=MONTHLY;UNTIL=20240222T000000
DESCRIPTION:<p>The reason why you would want to complete this task is to link this resume to your LinkedIn profile. You can always print out your resume and bring it to any networking meetings you may be attending.<br /></p>
LOCATION:Last Stand Brewing Company, 7601 S Congress Ave., Austin, TX  78745
END:VEVENT
END:VCALENDAR