BEGIN:VCALENDAR
VERSION:2.0
BEGIN:VEVENT
URL:https://www.networkinaction.com/index.php/events/viewevent/11724-national-network-connect-monthly-meeting-11-00am-est-10-00am-cst-9-00am-mst-8-00am-pst?groupid=212 
DTSTART:20230711T100000
DTEND:20230711T113000
SUMMARY:National Network Connect Monthly Meeting |  11:00am EST | 10:00am CST | 9:00am MST | 8:00am PST
DESCRIPTION:<p><strong>Our monthly meeting is always the 2nd Tuesday for 90 minutes starting at </strong><b>11:00am EST | 10:00am CST | 9:00am MST | 8:00am PST</b><strong> via Zoom at www.ZoomwithShannonMC.com.</strong> Please RSVP and confirm with Shannon 615-210-4257.
</p>
<p><u>I look forward to seeing you there!
</u></p><br /><ul><li>Join Zoom Meeting
</li><li>https://us02web.zoom.us/j/87531893792?pwd=bLgUi-q5xG2UkzYBs96xpiZaARxnJS.1
</li><li>Meeting ID: 875 3189 3792
</li><li>Passcode: 745233
</li><li>One tap mobile
</li><li>+13126266799,,87531893792#,,,,*745233# US (Chicago)
</li><li>+16465588656,,87531893792#,,,,*745233# US (New York)
</li><li>Dial by your location
</li><li>        +1 312 626 6799 US (Chicago)
</li><li>        +1 646 558 8656 US (New York)
</li><li>        +1 301 715 8592 US (Washington DC)
</li><li>        +1 346 248 7799 US (Houston)
</li><li>        +1 669 900 9128 US (San Jose)
</li><li>        +1 253 215 8782 US (Tacoma)
</li><li>Find your local number: https://us02web.zoom.us/u/ktCgUuBln
</li></ul><br /><br />





LOCATION: Virtual Zoom: www.ZoomwithShannonMC.com
END:VEVENT
END:VCALENDAR