BEGIN:VCALENDAR
VERSION:2.0
BEGIN:VEVENT
URL:https://www.networkinaction.com/index.php/events/viewevent/11691-february-monthly-mardi-gras-meeting?groupid=11 
DTSTART:20230216T160000
DTEND:20230216T173000
SUMMARY:February Monthly Mardi Gras Meeting!
DESCRIPTION:Let's celebrate Mardi Gras in style and welcome multiple new members to our dynamic networking concepts! Thursday Feb. 16 at D'Vine Wine Bar - 4 PM.
LOCATION:25202 NW Freeway, Cypress, TX 77429
END:VEVENT
END:VCALENDAR