BEGIN:VCALENDAR
VERSION:2.0
BEGIN:VEVENT
URL:https://www.networkinaction.com/index.php/events/viewevent/11684-nia-realtor-relocation-meeting-8-30-pst-10-30-cst-11-30-est?groupid=112 
DTSTART:20230614T103000
DTEND:20230614T113000
SUMMARY:NIA REALTOR RELOCATION MEETING 8:30 PST, 10:30 CST 11:30 EST
DESCRIPTION:<p>NIA REALTOR RELOCATION MEETING 8:30 PST, 10:30 CST 11:30 EST
</p>
<p> NIA Realtor Relocation Network</p>
LOCATION:www.zoomwithniatc.com
END:VEVENT
END:VCALENDAR