BEGIN:VCALENDAR
VERSION:2.0
BEGIN:VEVENT
URL:https://www.networkinaction.com/index.php/events/viewevent/11681-next-level-networking?groupid=286 
DTSTART:20230309T000000
DTEND:20230309T170000
SUMMARY:Next Level Networking 
DESCRIPTION:<p>https://www.eventbrite.com/e/next-level-networking-tickets-538125777687?utm-campaign=social&utm-content=attendeeshare&utm-medium=discovery&utm-term=listing&utm-source=cp&aff=escb</p>
LOCATION:Blue Rooster: 331Hwy 410 S, Buckley, WA 98321
END:VEVENT
END:VCALENDAR