BEGIN:VCALENDAR
VERSION:2.0
BEGIN:VEVENT
URL:https://www.networkinaction.com/index.php/events/viewevent/11658-nia-puyallup-valley-first-meeting?groupid=286 
DTSTART:20230208T160000
DTEND:20230208T173000
SUMMARY:NIA Puyallup Valley - First Meeting
DESCRIPTION:<p>NIA Puyallup Valley is inviting you to a scheduled Zoom meeting. 
</p><p>Join Zoom Meeting 
</p><p>https://us06web.zoom.us/j/81063040708?pwd=M1lnMTBwbWc4OUh2YVkrZXU5eWI5Zz09 
</p><p>Meeting ID: 810 6304 0708 
</p><p>Passcode: 217219 
</p><p><br /></p><p>One tap mobile 
</p><p>+12532050468,,81063040708#,,,,*217219# US 
</p><p>+12532158782,,81063040708#,,,,*217219# US (Tacoma) 
</p><p>Dial by your location 
</p><p>        +1 253 205 0468 US 
</p><p>        +1 253 215 8782 US (Tacoma) 
</p><p>        +1 346 248 7799 US (Houston) 
</p><p>        +1 669 444 9171 US 
</p><p>        +1 719 359 4580 US 
</p><p>        +1 720 707 2699 US (Denver) 
</p><p>        +1 689 278 1000 US 
</p><p>        +1 301 715 8592 US (Washington DC) 
</p><p>        +1 305 224 1968 US 
</p><p>        +1 309 205 3325 US 
</p><p>        +1 312 626 6799 US (Chicago) 
</p><p>        +1 360 209 5623 US 
</p><p>        +1 386 347 5053 US 
</p><p>        +1 507 473 4847 US 
</p><p>        +1 564 217 2000 US 
</p><p>        +1 646 558 8656 US (New York) 
</p><p>        +1 646 931 3860 US 
</p><br /><p>Meeting ID: 810 6304 0708 
</p><p>Passcode: 217219 
</p><p>Find your local number: https://us06web.zoom.us/u/kcMRSQOGMU 
</p><br />

LOCATION:https://us06web.zoom.us/j/81063040708?pwd=M1lnMTBwbWc4OUh2YVkrZXU5eWI5Zz09 
END:VEVENT
END:VCALENDAR