BEGIN:VCALENDAR
VERSION:2.0
BEGIN:VEVENT
URL:https://www.networkinaction.com/index.php/events/viewevent/11637-grit-city-monthly-meeting?groupid=196 
DTSTART:20230208T150000
DTEND:20230208T163000
SUMMARY:Grit City Monthly Meeting 
RRULE:FREQ=MONTHLY;UNTIL=20231108T000000
DESCRIPTION:<p>Our monthly meeting is where you the professionals gather to make connections, exchange ideas, and build relationships. The goal of this meeting is to increase visibility and build a network of contacts who can offer support, advice, and potential business opportunities. Participants come from various industries and backgrounds and may include entrepreneurs, executives, and business owners. The format of the meeting can vary, but it often includes opportunities for participants to introduce themselves, exchange business cards, and engage in casual conversation. This business networking meeting will provide valuable opportunities for professional growth and development.</p>
LOCATION:Moctezuma's Tacoma 4102 South 56th Street, Tacoma, WA 98409
END:VEVENT
END:VCALENDAR