BEGIN:VCALENDAR
VERSION:2.0
BEGIN:VEVENT
URL:https://www.networkinaction.com/index.php/events/viewevent/11614-understanding-taxes-for-entrepreneurs 
DTSTART:20230207T000000
DTEND:20230207T190000
SUMMARY:Understanding Taxes for Entrepreneurs
DESCRIPTION:<p>Are you a new business owner or someone who primarily received 1099’s in 2022? </p><p>Are you  wondering how to file taxes properly to avoid owing too much?</p><p>Are you wondering what expenses you can write off as a business owner?</p><p>Have you wondered how you are going to still save for retirement and build wealth?</p><p>If you answered yes to any of these questions, join us for a webinar filled with valuable information to make sure your business stays in the black.</p>
LOCATION:Register here for Zoom link: https://bit.ly/taxesforentreprenuers
END:VEVENT
END:VCALENDAR