BEGIN:VCALENDAR
VERSION:2.0
BEGIN:VEVENT
URL:https://www.networkinaction.com/index.php/events/viewevent/11607-network-in-action-of-central-florida-monthly-meeting 
DTSTART:20230208T153000
DTEND:20230208T170000
SUMMARY:Network in Action of Central Florida Monthly Meeting
DESCRIPTION:
LOCATION:Cork & Olive Bistro 1061 S Sun Drive, Lake Mary, FL 32746
END:VEVENT
END:VCALENDAR