BEGIN:VCALENDAR
VERSION:2.0
BEGIN:VEVENT
URL:https://www.networkinaction.com/index.php/events/viewevent/11600-faber-entrepreneurship-center-presents-hollywood-is-everywhere 
DTSTART:20230224T090000
DTEND:20230224T120000
SUMMARY:Faber Entrepreneurship Center presents: Hollywood is Everywhere
DESCRIPTION:<p>Hollywood is Everywhere!</p><p>The film industry is alive and well in South Carolina and they need YOU! Business majors don't always see themselves in creative careers like filmmaking, but the skills of finance, marketing, entrepreneurship, project management, and management are all needed in the creation of films.</p><p>Join the Faber Entrepreneurship Center and our friends in Fanatik Productions, the South Carolina Film Commission, and other studios and production companies, to learn how your business degree can be put to use in this thriving industry.</p><p>Entrepreneurs welcome! Our community is invited to join our students while we explore the opportunities in grant funding, marketing, production, and festivals and events here in South Carolina. We welcome you, Indie Grits entrepreneurs, filmmakers and story tellers, to commune with us over in-depth explorations of the opportunities in the filmmaking and storytelling space.</p><p>Speakers Line-up:</p><p>Matt Storm, South Carolina Film Commissioner</p><p>Dan Rogers, Senior Project Manager, South Carolina Film Commission</p><p>Felicia Rivers, writer/director/producer and owner of Geechee One Film</p><p>Jason Gourdine, writer/director/producer and owner of Crown Vision Media</p><p>Dr. Brandon Glover, USC alum, writer/director/producer and owner</p><br /><p>Agenda</p><p>9:00 AM - 9:50 AM</p><p>Coffee & Networking</p><p>9:50 AM - 10:50 AM</p><p>Roundtable discussions and hotseat networking</p><p>10:50 AM - 11:40 AM</p><p>Panel discussion</p><p>11:40 AM</p><p>Q&A</p><p>Lunch & Networking</p><p><br /></p>
LOCATION:Darla Moore School of Business 1014 Greene Street Columbia, SC 29208
END:VEVENT
END:VCALENDAR