BEGIN:VCALENDAR
VERSION:2.0
BEGIN:VEVENT
URL:https://www.networkinaction.com/index.php/events/viewevent/11585-virtual-general-mandatory-member-meeting-tuesday-february-14th-4-00pm-zoomwithdrroundtree-com?groupid=133 
DTSTART:20230214T160000
DTEND:20230214T171500
SUMMARY:Virtual General Mandatory Member Meeting - Tuesday, February 14th @ 4:00pm - zoomwithdrroundtree.com
DESCRIPTION:<p>Join us as we get to know, like and trust each other while learning more about how to grow our businesses.
</p><p>Get to learn more about how to grow your business with like-minded business professionals and establish a valuable referral network that lasts a lifetime.
</p><br />
LOCATION:zoomwithdrroundtree.com
END:VEVENT
END:VCALENDAR