BEGIN:VCALENDAR
VERSION:2.0
BEGIN:VEVENT
URL:https://www.networkinaction.com/index.php/events/viewevent/11583-social-mixer-at-fiwe-caribbean-cuisine-410-evernia-st-unit-108-west-palm-beach-fl-33401-at-5-30pm-est?groupid=289 
DTSTART:20230224T173000
DTEND:20230224T193000
SUMMARY:Social Mixer at FIWE Caribbean Cuisine, 410 Evernia St Unit 108, West Palm Beach, FL 33401 at 5:30pm EST
DESCRIPTION:<p>Join us as we take some time to get together informally for our monthly Social Mixer at FIWE Caribbean Cuisine, 410 Evernia St Unit 108, West Palm Beach, FL 33401 at 6:30pm EST. Appetizers and the 1st drink is on me.</p>
LOCATION:410 Evernia St Unit 108, West Palm Beach, FL 33401 
END:VEVENT
END:VCALENDAR