BEGIN:VCALENDAR
VERSION:2.0
BEGIN:VEVENT
URL:https://www.networkinaction.com/index.php/events/viewevent/11577-nia-focus-forum-nathalie-sessions?groupid=133 
DTSTART:20230222T160000
DTEND:20230222T173000
SUMMARY:NIA Focus Forum - Nathalie Sessions
DESCRIPTION:<p>This value-driven coaching session features highly competent speakers in various business industries to bring value to support business owners' growth in their business endeavors.</p>
LOCATION:zoomwithnia.com
END:VEVENT
END:VCALENDAR