BEGIN:VCALENDAR
VERSION:2.0
BEGIN:VEVENT
URL:https://www.networkinaction.com/index.php/events/viewevent/11572-sales-mastery-joe-apfelbaum?groupid=136 
DTSTART:20230215T160000
DTEND:20230215T173000
SUMMARY:Sales Mastery - Joe Apfelbaum
DESCRIPTION:<p>Sales Mastery is a dynamic virtual coaching experience that focuses on building your selling skills, knowledge, and strategy to perform at your highest level.</p><p>Join in to level up!</p><br />
LOCATION:zoomwithnia.com
END:VEVENT
END:VCALENDAR