BEGIN:VCALENDAR
VERSION:2.0
BEGIN:VEVENT
URL:https://www.networkinaction.com/index.php/events/viewevent/11569-network-with-the-nation?groupid=133 
DTSTART:20230201T160000
DTEND:20230201T173000
SUMMARY:Network with the Nation
DESCRIPTION:<p>Take advantage of this opportunity to network with other like-minded entrepreneurs in the nation and establish potential referral partners throughout the country and beyond.</p>
LOCATION:zoomwithnia.com
END:VEVENT
END:VCALENDAR