BEGIN:VCALENDAR
VERSION:2.0
BEGIN:VEVENT
URL:https://www.networkinaction.com/index.php/events/viewevent/11558-nia-dayton-monthly-networking-meeting?groupid=246 
DTSTART:20230208T153000
DTEND:20230208T183000
SUMMARY:NIA-DAYTON: Monthly Networking Meeting
DESCRIPTION:<p>Grow Your Network = Grow Your Business</p><p>This is a FREE informational event for people who want to:</p><p>Expand their network of professionals</p><p>Increase their personal growth in any position</p><p>👉 Helping 𝐥𝐨𝐜𝐚𝐥 𝐛𝐮𝐬𝐢𝐧𝐞𝐬𝐬𝐞𝐬 get connected and 𝐛𝐮𝐢𝐥𝐝 𝐫𝐞𝐥𝐚𝐭𝐢𝐨𝐧𝐬𝐡𝐢𝐩𝐬 that last a lifetime!</p><br /><p>➡️ 𝐎𝐔𝐑 𝐌𝐈𝐒𝐒𝐈𝐎𝐍: </p><p>We believe that the perfect mix of innovative technology and face-to-face networking will help businesses grow! </p><br /><p>➡️ 𝐖𝐇𝐀𝐓 𝐖𝐄 𝐃𝐎: </p><p>Network In Action is different from all other business networking organizations. We aim to continue disrupting the industry and raising the bar to bring value to our members. </p><p>The NIA Member experience is 𝐥𝐢𝐤𝐞 𝐧𝐨 𝐨𝐭𝐡𝐞𝐫 𝐛𝐮𝐬𝐢𝐧𝐞𝐬𝐬 𝐧𝐞𝐭𝐰𝐨𝐫𝐤𝐢𝐧𝐠 𝐠𝐫𝐨𝐮𝐩! </p><br /><p>➡️ 𝐇𝐎𝐖 𝐖𝐄 𝐃𝐎 𝐈𝐓: </p><p>We are the only Networking Group that 𝐆𝐔𝐀𝐑𝐀𝐍𝐓𝐄𝐄𝐒 your ROI – we call it Return on Relationships! </p><p>Once a year, we coordinate an opportunity to serve and 𝐠𝐢𝐯𝐞 𝐛𝐚𝐜𝐤 to our local community! </p><p>We meet 1X per month for 90-minutes, 𝐬𝐚𝐯𝐢𝐧𝐠 𝐲𝐨𝐮 𝟖𝟎+ 𝐡𝐨𝐮𝐫𝐬 every year! </p><p>Every meeting is carefully structured with a set agenda full of training, networking, giveaways, etc.! </p><br /><p>➡️ 𝐖𝐇𝐀𝐓 𝐌𝐀𝐊𝐄𝐒 𝐔𝐒 𝐃𝐈𝐅𝐅𝐄𝐑𝐄𝐍𝐓: </p><p>❌ 𝐍𝐎 Weekly Morning Meetings </p><p>❌ 𝐍𝐎 30-second elevator pitches to the same group of people </p><p>❌ 𝐍𝐎 Weekly volunteer leader & coordinator </p><p>❌ 𝐍𝐎 Referral shaming </p><p>✅ Monthly Meetings – This saves you 𝐭𝐢𝐦𝐞 & 𝐦𝐨𝐧𝐞𝐲 every month! </p><p>✅ Professional Leadership – My responsibility is to 𝐬𝐞𝐫𝐯𝐞 𝐲𝐨𝐮 and your business! </p><p>✅ Refer with Confidence - Personality profile and 𝐛𝐚𝐜𝐤𝐠𝐫𝐨𝐮𝐧𝐝 𝐜𝐡𝐞𝐜𝐤𝐬 on every member! </p><p>✅ Technology – With our 𝐬𝐦𝐚𝐫𝐭𝐩𝐡𝐨𝐧𝐞 𝐚𝐩𝐩, you can pass and track referrals with ease. </p><p>✅ Bonus Events - 𝐑𝐎𝐈 𝐠𝐮𝐚𝐫𝐚𝐧𝐭𝐞𝐞 that bring together all the NIA members around Ohio, and North America! </p><p>✅ Guaranteed ROI - No other networking organization offers an 𝐑𝐎𝐈 𝐠𝐮𝐚𝐫𝐚𝐧𝐭𝐞𝐞, but we do! If you do your part, your second year is 𝐅𝐑𝐄𝐄! </p><br /><p>SEATS ARE LIMITED SO BE SURE TO REACH OUT AND CONFIRM!</p>
LOCATION:Cooper’s Hawk Winery & Restaurant, 5220 Cornerstone N Blvd, Centerville, OH 45440
END:VEVENT
END:VCALENDAR