BEGIN:VCALENDAR
VERSION:2.0
BEGIN:VEVENT
URL:https://www.networkinaction.com/index.php/events/viewevent/11531-nia-cy-fair-connectors-march-meeting?groupid=12 
DTSTART:20230321T150000
DTEND:20230321T163000
SUMMARY:NIA Cy-Fair Connectors March Meeting
DESCRIPTION:
LOCATION:World of Beer, 9945 Barker Cypress Rd., Cypress, 77433
END:VEVENT
END:VCALENDAR