BEGIN:VCALENDAR
VERSION:2.0
BEGIN:VEVENT
URL:https://www.networkinaction.com/index.php/events/viewevent/11529-vbf-february-meeting?groupid=147 
DTSTART:20230209T150000
DTEND:20230209T163000
SUMMARY:VBF February Meeting
DESCRIPTION:<p>It's time for our February meeting. Come out and join the members of Veterans Business Force for our monthly meeting to network with the elite business owners in our group. We have a great meeting planned and you will want to be there.</p><p>Please note our NEW MEETING PLACE, Spring Branch VFW</p>
LOCATION:VFW Post 8790, Spring Branch, 1560 Veterans of Foreign Wars Wy, Houston, TX 77055
END:VEVENT
END:VCALENDAR