BEGIN:VCALENDAR
VERSION:2.0
BEGIN:VEVENT
URL:https://www.networkinaction.com/index.php/events/viewevent/11499-how-to-use-the-nia-app-and-desktop-how-to?groupid=198 
DTSTART:20230202T090000
DTEND:20230202T100000
SUMMARY:How to use the NIA App and desktop how to!
DESCRIPTION:Do you want to get more out of your membership?  Do you want to know how to log your points and use all the tools that are part of the membership?  Then this virtual meeting is for you.    

Please join use at www.zoomwithbeth.com on Thursday, February 2nd, 2023, at 9 am till 10 am.  

Look forward to seeing you on the call.
LOCATION:www.zoomwithbeth.com
END:VEVENT
END:VCALENDAR