BEGIN:VCALENDAR
VERSION:2.0
BEGIN:VEVENT
URL:https://www.networkinaction.com/index.php/events/viewevent/11423-january-2023-cypress-monthly-meeting?groupid=11 
DTSTART:20230119T160000
DTEND:20230119T173000
SUMMARY:January 2023! Cypress Monthly Meeting
DESCRIPTION:Renew acquaintances with newest members and welcome an impressive group of guests and prospective fellow members! Participate in a provocative exercise designed to differentiate and help expand your business immediately!  Attendance is mandatory! Let's have a full house! RSVP to Rich at (713)705-6095.
LOCATION:D'Vine Wine Bar & Bistro, 25202 NW Freeway, Unit 100, Cypress, TX 77429
END:VEVENT
END:VCALENDAR