BEGIN:VCALENDAR
VERSION:2.0
BEGIN:VEVENT
URL:https://www.networkinaction.com/index.php/events/viewevent/11422-cougar-connection-u-of-h-alumni-winter-speed-networking-event 
DTSTART:20230202T173000
DTEND:20230202T200000
SUMMARY:Cougar Connection U of H Alumni Winter Speed Networking Event
DESCRIPTION:<p><strong>Speed Networking allows you access to new business relationships in a fun, efficient manner.
</strong></p><p>Join us to make connections with business owners and entrepreneurs at The Cannon - West. We'll enjoy happy hour drinks and light bites among like-minded alumni.
</p><p>Joyce & David Wells of Cougar Connection <a href="www.cougarconnection.net" title="Website"><u>www.cougarconnection.net</u></a> are hosting this event on Thursday, February 2 from 6:00pm to 8:00pm. <strong>Sign in starts at 5:30pm!
</strong></p><p>Our networking events are fun, friendly, and welcoming way to meet fellow U of H alumni to build relationships and grow your business.
</p><p><strong>Space will be limited to 80 seats. Register early to reserve your spot!!!  </strong>Click <u style=""><a href="https://www.eventbrite.com/e/493382238557" title="Register" style="font-weight: bold;">HERE</a> </u>to register on Eventbrite<b>.  Tickets are $20 which includes 1 drink ticket and appetizers.</b></p><p><em>Open to all University of Houston Alumni and supporters!</em></p>




LOCATION:The Cannon West Houston 1334 Brittmoore Road #1327 Houston, TX 77043
END:VEVENT
END:VCALENDAR