BEGIN:VCALENDAR
VERSION:2.0
BEGIN:VEVENT
URL:https://www.networkinaction.com/index.php/events/viewevent/11419-cougar-connection-central-monthly-meeting?groupid=14 
DTSTART:20230208T153000
DTEND:20230208T170000
SUMMARY:Cougar Connection - Central Monthly Meeting
DESCRIPTION:<p>As entrepreneurs, business owners, and independent professionals, our goal is to grow our business. Part of the strategy is networking and as a result, we desire to help others grow their business through referrals and strategic partnerships!
</p>
<p><b>This group exists to “Connect with Purpose”. Our focus is to bring people together who desire to network, grow, and build a community of like-minded business professionals they can trust.
</b></p><p>This is an industry exclusive group that comes with robust technology, marketing, professional leadership, a guaranteed ROI, and other benefits. Membership is required. However, visitors are able to visit 1 time. After that, each visitor will schedule a time with Joyce or David, for an interview, to learn more and become a part of this dynamic community. This is a new chapter that meets in the West Houston area. The event begins promptly at 3:30 pm. Please arrive early to accommodate for parking. We will have light snacks and beverages to enjoy.
</p><p><b>Please RSVP and arrive early!
</b></p><p>If you are interested in learning more about this exclusive networking group, please contact Joyce Wells at joyce@networkinaction.com or David Wells at david.w@networkinaction.com.</p>



LOCATION:Warehouse 72, 7620 Katy Fwy #305, Houston, TX 77024
END:VEVENT
END:VCALENDAR