BEGIN:VCALENDAR
VERSION:2.0
BEGIN:VEVENT
URL:https://www.networkinaction.com/index.php/events/viewevent/11322-nia-february-meeting?groupid=12 
DTSTART:20230221T150000
DTEND:20230221T163000
SUMMARY:NIA February Meeting
DESCRIPTION:NIA Cy-Fair Connectors February Meeting
LOCATION:World of Beer, 9945 Barker Cypress Rd., Cypress, 77433
END:VEVENT
END:VCALENDAR