BEGIN:VCALENDAR
VERSION:2.0
BEGIN:VEVENT
URL:https://www.networkinaction.com/index.php/events/viewevent/11199-humble-monthly-meeting?groupid=75 
DTSTART:20230309T150000
DTEND:20230309T163000
SUMMARY:Humble Monthly Meeting
DESCRIPTION:
LOCATION:363 N Sam Houston Pkwy E, 1st floor training room, Houston, TX 77060, USA
END:VEVENT
END:VCALENDAR