BEGIN:VCALENDAR
VERSION:2.0
BEGIN:VEVENT
URL:https://www.networkinaction.com/index.php/events/viewevent/11186-speed-networking-with-network-in-action?groupid=286 
DTSTART:20221219T160000
DTEND:20221219T170000
SUMMARY:Speed Networking with Network in Action 
DESCRIPTION:
LOCATION:https://www.eventbrite.com/e/490828690827
END:VEVENT
END:VCALENDAR