BEGIN:VCALENDAR
VERSION:2.0
BEGIN:VEVENT
URL:https://www.networkinaction.com/index.php/events/viewevent/11116-hcn-lunch?groupid=225 
DTSTART:20230720T113000
DTEND:20230726T130000
SUMMARY:HCN Lunch
DESCRIPTION:
LOCATION:Low Tide Kitchen & Bar: 2030A Bingle Road,Houston,TX 77055
END:VEVENT
END:VCALENDAR