BEGIN:VCALENDAR
VERSION:2.0
BEGIN:VEVENT
URL:https://www.networkinaction.com/index.php/events/viewevent/11115-hcn-happy-hour?groupid=225 
DTSTART:20230630T150000
DTEND:20230630T163000
SUMMARY:HCN Happy Hour
DESCRIPTION:
LOCATION:East River 9, 65 Hirsch Rd, Houston, TX 77020
END:VEVENT
END:VCALENDAR