BEGIN:VCALENDAR
VERSION:2.0
BEGIN:VEVENT
URL:https://www.networkinaction.com/index.php/events/viewevent/11111-houston-christian-network-mastermind?groupid=225 
DTSTART:20230222T083000
DTEND:20230222T093000
SUMMARY:Houston Christian Network MasterMind
DESCRIPTION:
LOCATION:The Corner Bakery: 9311 Katy Fwy, Houston, TX 77024
END:VEVENT
END:VCALENDAR