BEGIN:VCALENDAR
VERSION:2.0
BEGIN:VEVENT
URL:https://www.networkinaction.com/index.php/events/viewevent/11104-houston-christian-network-monthly-networking-meeting?groupid=225 
DTSTART:20230713T150000
DTEND:20230713T163000
SUMMARY:Houston Christian Network Monthly Networking Meeting
DESCRIPTION:
LOCATION:The Cannon: 1334 Brittmoore Rd., Houston, TX 77043
END:VEVENT
END:VCALENDAR