BEGIN:VCALENDAR
VERSION:2.0
BEGIN:VEVENT
URL:https://www.networkinaction.com/index.php/events/viewevent/11079-get-cooking-with-network-in-action-pnw?groupid=223 
DTSTART:20230204T150000
DTEND:20230204T180000
SUMMARY:Get Cooking with Network In Action PNW!
DESCRIPTION:Let's get inspired by NW cuisine together! We will enjoy charcuterie, wine, and then prepare our own 3-course meal followed by dessert!

Seating is limited so RSVP asap please. 

https://www.eventbrite.com/e/487085173867
LOCATION:Wanderlust Delicato. 421 W Main #103
END:VEVENT
END:VCALENDAR