BEGIN:VCALENDAR
VERSION:2.0
BEGIN:VEVENT
URL:https://www.networkinaction.com/index.php/events/viewevent/11058-network-in-action-sumner-county-monthly-meeting?groupid=252 
DTSTART:20230808T110000
DTEND:20230812T130000
SUMMARY:Network In Action - Sumner County Monthly Meeting 
RRULE:FREQ=MONTHLY;UNTIL=20231214T000000
DESCRIPTION:<p><br /></p>
LOCATION:981 Plantation Blvd, Gallatin, TN 37066
END:VEVENT
END:VCALENDAR