BEGIN:VCALENDAR
VERSION:2.0
BEGIN:VEVENT
URL:https://www.networkinaction.com/index.php/events/viewevent/11039-nia-donelson-monthly-meeting?groupid=262 
DTSTART:20230511T150000
DTEND:20230512T163000
SUMMARY:NIA Donelson Monthly Meeting
RRULE:FREQ=MONTHLY;UNTIL=20240112T000000
DESCRIPTION:
LOCATION:2720 Old Lebanon Rd. Nashville, TN 37214
END:VEVENT
END:VCALENDAR