BEGIN:VCALENDAR
VERSION:2.0
BEGIN:VEVENT
URL:https://www.networkinaction.com/index.php/events/viewevent/11038-nia-donelson-member-meeting?groupid=262 
DTSTART:20230413T150000
DTEND:20230413T163000
SUMMARY:NIA Donelson Member Meeting 
RRULE:FREQ=MONTHLY;UNTIL=20240112T000000
DESCRIPTION:
LOCATION:2720 Old Lebanon Rd. Nashville, TN 37214
END:VEVENT
END:VCALENDAR