BEGIN:VCALENDAR
VERSION:2.0
BEGIN:VEVENT
URL:https://www.networkinaction.com/index.php/events/viewevent/11029-virtual-speed-networking-with-nia-puyallup-valley?groupid=286 
DTSTART:20221215T160000
DTEND:20221215T171500
SUMMARY:Virtual Speed Networking with NIA Puyallup Valley 
DESCRIPTION:
LOCATION:https://us06web.zoom.us/meeting/register/tZYtdOmsqDwuGNEhX9IDWPqzV2BPxWlch2Wj 
END:VEVENT
END:VCALENDAR