BEGIN:VCALENDAR
VERSION:2.0
BEGIN:VEVENT
URL:https://www.networkinaction.com/index.php/events/viewevent/11020-cash-flow-is-king-nia-3-00-to-4-30?groupid=1 
DTSTART:20230713T150000
DTEND:20230713T163000
SUMMARY:Cash Flow is King!    NIA 3:00 to 4:30 
DESCRIPTION:Michelle Mere will teach us a thing or two about MONEY$$$$$$
LOCATION:7620 Katy Fwy #305, Houston, TX 77024
END:VEVENT
END:VCALENDAR