BEGIN:VCALENDAR
VERSION:2.0
BEGIN:VEVENT
URL:https://www.networkinaction.com/index.php/events/viewevent/11019-comer-see-jesse-and-rob-loose-their-network-virginity-3-00-to-4-30?groupid=1 
DTSTART:20230608T150000
DTEND:20230608T163000
SUMMARY:Comer See Jesse and Rob loose their Network Virginity!  3:00 to 4:30 
DESCRIPTION:Social Media is still big time important Bridgette has the tips! 
LOCATION:7620 Katy Fwy #305, Houston, TX 77024
END:VEVENT
END:VCALENDAR