BEGIN:VCALENDAR
VERSION:2.0
BEGIN:VEVENT
URL:https://www.networkinaction.com/index.php/events/viewevent/11017-heights-monthly-meeting-3-00-to-4-30?groupid=1 
DTSTART:20230413T150000
DTEND:20230413T163000
SUMMARY:Heights Monthly Meeting 3:00 to 4:30 
DESCRIPTION:
LOCATION:7620 Katy Fwy #305, Houston, TX 77024
END:VEVENT
END:VCALENDAR