BEGIN:VCALENDAR
VERSION:2.0
BEGIN:VEVENT
URL:https://www.networkinaction.com/index.php/events/viewevent/11016-heights-monthly-nia-meeting?groupid=1 
DTSTART:20230309T150000
DTEND:20230309T163000
SUMMARY:Heights Monthly NIA Meeting 
DESCRIPTION:
LOCATION:7620 Katy Fwy #305, Houston, TX 77024
END:VEVENT
END:VCALENDAR