BEGIN:VCALENDAR
VERSION:2.0
BEGIN:VEVENT
URL:https://www.networkinaction.com/index.php/events/viewevent/11015-nia-monthly-meeting-3-00-love-nia-heights?groupid=1 
DTSTART:20230209T150000
DTEND:20230209T163000
SUMMARY:NIA Monthly Meeting 3:00  Love NIA Heights 
DESCRIPTION:Please remember to bring a lap top or smart  phone with your NIA login credentials to this meeting! If you cannot login your smart phone NIA app just hit forgot username and password. 
LOCATION:7620 Katy Fwy #305, Houston, TX 77024
END:VEVENT
END:VCALENDAR