BEGIN:VCALENDAR
VERSION:2.0
BEGIN:VEVENT
URL:https://www.networkinaction.com/index.php/events/viewevent/10942-cy-fair-connectors-december-event?groupid=12 
DTSTART:20221220T150000
DTEND:20221220T163000
SUMMARY:Cy-Fair Connectors December Event
DESCRIPTION:<p>Cy-Fair Connectors</p><p>December Meeting</p><p>White Elephant  Gift Exchange  $30.00 </p><p>World of Beer</p><p>9945 Barker Cypress Rd</p><p>Cypress, 77433</p>
LOCATION:World of Beer, 9945 Barker Cypress Rd., Cypress, 77433
END:VEVENT
END:VCALENDAR