BEGIN:VCALENDAR
VERSION:2.0
BEGIN:VEVENT
URL:https://www.networkinaction.com/index.php/events/viewevent/10881-monthly-main-meeting-for-members?groupid=237 
DTSTART:20221214T140000
DTEND:20221214T153000
SUMMARY:Monthly Main Meeting for Members
DESCRIPTION:The time has come for us to get down to business! We'll have a full agenda, where we lay the groundwork for what we're doing together, so make sure to come ready to engage. See you there!<br />
LOCATION:Blarney Stone Pub, 1910 9th St E, West Fargo, ND 58078
END:VEVENT
END:VCALENDAR